BEGIN:VCALENDAR
VERSION:2.0
PRODID:-//River&#039;s Edge - ECPv6.10.1.1//NONSGML v1.0//EN
CALSCALE:GREGORIAN
METHOD:PUBLISH
X-WR-CALNAME:River&#039;s Edge
X-ORIGINAL-URL:https://riversedgefit.com
X-WR-CALDESC:Events for River&#039;s Edge
REFRESH-INTERVAL;VALUE=DURATION:PT1H
X-Robots-Tag:noindex
X-PUBLISHED-TTL:PT1H
BEGIN:VTIMEZONE
TZID:America/Chicago
BEGIN:DAYLIGHT
TZOFFSETFROM:-0600
TZOFFSETTO:-0500
TZNAME:CDT
DTSTART:20250309T080000
END:DAYLIGHT
BEGIN:STANDARD
TZOFFSETFROM:-0500
TZOFFSETTO:-0600
TZNAME:CST
DTSTART:20251102T070000
END:STANDARD
END:VTIMEZONE
BEGIN:VEVENT
DTSTART;TZID=America/Chicago:20251231T060000
DTEND;TZID=America/Chicago:20251231T070000
DTSTAMP:20260421T091706
CREATED:20251204T221229Z
LAST-MODIFIED:20251204T221229Z
UID:2202-1767160800-1767164400@riversedgefit.com
SUMMARY:Build and Burn W/ Kari
DESCRIPTION:Build and Burn\nThis functional strength class is designed to focus on training the body for activities performed in daily life\, sports\, or specific tasks. The primary goal of functional strength training is to improve functional movements and enhance overall functional fitness. \nWe will shape and define lean muscles through targeted exercises that blend dumbells\, kettlebells\, and bodyweight movements. This energizing workout focuses on sculpting and toning\, helping you build strength and flexibility. Every session is designed to leave you feeling strong\, balanced\, and revitalized\, creating lean\, graceful muscle definition from head to toe.\nLimit 6 participants/class\n$10 per class for members\n$15 per class for non-membersSignup in advance by emailing Kari – mcdowellkari@yahoo.com
URL:https://riversedgefit.com/event/build-and-burn-w-kari/2025-12-31/
END:VEVENT
BEGIN:VEVENT
DTSTART;TZID=America/Chicago:20251229T060000
DTEND;TZID=America/Chicago:20251229T070000
DTSTAMP:20260421T091706
CREATED:20251204T221229Z
LAST-MODIFIED:20251204T221229Z
UID:2200-1766988000-1766991600@riversedgefit.com
SUMMARY:Build and Burn W/ Kari
DESCRIPTION:Build and Burn\nThis functional strength class is designed to focus on training the body for activities performed in daily life\, sports\, or specific tasks. The primary goal of functional strength training is to improve functional movements and enhance overall functional fitness. \nWe will shape and define lean muscles through targeted exercises that blend dumbells\, kettlebells\, and bodyweight movements. This energizing workout focuses on sculpting and toning\, helping you build strength and flexibility. Every session is designed to leave you feeling strong\, balanced\, and revitalized\, creating lean\, graceful muscle definition from head to toe.\nLimit 6 participants/class\n$10 per class for members\n$15 per class for non-membersSignup in advance by emailing Kari – mcdowellkari@yahoo.com
URL:https://riversedgefit.com/event/build-and-burn-w-kari/2025-12-29/
END:VEVENT
BEGIN:VEVENT
DTSTART;TZID=America/Chicago:20251226T060000
DTEND;TZID=America/Chicago:20251226T070000
DTSTAMP:20260421T091706
CREATED:20251204T221229Z
LAST-MODIFIED:20251204T221229Z
UID:2199-1766728800-1766732400@riversedgefit.com
SUMMARY:Build and Burn W/ Kari
DESCRIPTION:Build and Burn\nThis functional strength class is designed to focus on training the body for activities performed in daily life\, sports\, or specific tasks. The primary goal of functional strength training is to improve functional movements and enhance overall functional fitness. \nWe will shape and define lean muscles through targeted exercises that blend dumbells\, kettlebells\, and bodyweight movements. This energizing workout focuses on sculpting and toning\, helping you build strength and flexibility. Every session is designed to leave you feeling strong\, balanced\, and revitalized\, creating lean\, graceful muscle definition from head to toe.\nLimit 6 participants/class\n$10 per class for members\n$15 per class for non-membersSignup in advance by emailing Kari – mcdowellkari@yahoo.com
URL:https://riversedgefit.com/event/build-and-burn-w-kari/2025-12-26/
END:VEVENT
BEGIN:VEVENT
DTSTART;TZID=America/Chicago:20251224T060000
DTEND;TZID=America/Chicago:20251224T070000
DTSTAMP:20260421T091706
CREATED:20251204T221229Z
LAST-MODIFIED:20251204T221229Z
UID:2198-1766556000-1766559600@riversedgefit.com
SUMMARY:Build and Burn W/ Kari
DESCRIPTION:Build and Burn\nThis functional strength class is designed to focus on training the body for activities performed in daily life\, sports\, or specific tasks. The primary goal of functional strength training is to improve functional movements and enhance overall functional fitness. \nWe will shape and define lean muscles through targeted exercises that blend dumbells\, kettlebells\, and bodyweight movements. This energizing workout focuses on sculpting and toning\, helping you build strength and flexibility. Every session is designed to leave you feeling strong\, balanced\, and revitalized\, creating lean\, graceful muscle definition from head to toe.\nLimit 6 participants/class\n$10 per class for members\n$15 per class for non-membersSignup in advance by emailing Kari – mcdowellkari@yahoo.com
URL:https://riversedgefit.com/event/build-and-burn-w-kari/2025-12-24/
END:VEVENT
BEGIN:VEVENT
DTSTART;TZID=America/Chicago:20251222T060000
DTEND;TZID=America/Chicago:20251222T070000
DTSTAMP:20260421T091706
CREATED:20251204T221229Z
LAST-MODIFIED:20251204T221229Z
UID:2197-1766383200-1766386800@riversedgefit.com
SUMMARY:Build and Burn W/ Kari
DESCRIPTION:Build and Burn\nThis functional strength class is designed to focus on training the body for activities performed in daily life\, sports\, or specific tasks. The primary goal of functional strength training is to improve functional movements and enhance overall functional fitness. \nWe will shape and define lean muscles through targeted exercises that blend dumbells\, kettlebells\, and bodyweight movements. This energizing workout focuses on sculpting and toning\, helping you build strength and flexibility. Every session is designed to leave you feeling strong\, balanced\, and revitalized\, creating lean\, graceful muscle definition from head to toe.\nLimit 6 participants/class\n$10 per class for members\n$15 per class for non-membersSignup in advance by emailing Kari – mcdowellkari@yahoo.com
URL:https://riversedgefit.com/event/build-and-burn-w-kari/2025-12-22/
END:VEVENT
BEGIN:VEVENT
DTSTART;TZID=America/Chicago:20251219T060000
DTEND;TZID=America/Chicago:20251219T070000
DTSTAMP:20260421T091706
CREATED:20251204T221229Z
LAST-MODIFIED:20251204T221229Z
UID:2196-1766124000-1766127600@riversedgefit.com
SUMMARY:Build and Burn W/ Kari
DESCRIPTION:Build and Burn\nThis functional strength class is designed to focus on training the body for activities performed in daily life\, sports\, or specific tasks. The primary goal of functional strength training is to improve functional movements and enhance overall functional fitness. \nWe will shape and define lean muscles through targeted exercises that blend dumbells\, kettlebells\, and bodyweight movements. This energizing workout focuses on sculpting and toning\, helping you build strength and flexibility. Every session is designed to leave you feeling strong\, balanced\, and revitalized\, creating lean\, graceful muscle definition from head to toe.\nLimit 6 participants/class\n$10 per class for members\n$15 per class for non-membersSignup in advance by emailing Kari – mcdowellkari@yahoo.com
URL:https://riversedgefit.com/event/build-and-burn-w-kari/2025-12-19/
END:VEVENT
BEGIN:VEVENT
DTSTART;TZID=America/Chicago:20251217T060000
DTEND;TZID=America/Chicago:20251217T070000
DTSTAMP:20260421T091706
CREATED:20251204T221229Z
LAST-MODIFIED:20251204T221229Z
UID:2195-1765951200-1765954800@riversedgefit.com
SUMMARY:Build and Burn W/ Kari
DESCRIPTION:Build and Burn\nThis functional strength class is designed to focus on training the body for activities performed in daily life\, sports\, or specific tasks. The primary goal of functional strength training is to improve functional movements and enhance overall functional fitness. \nWe will shape and define lean muscles through targeted exercises that blend dumbells\, kettlebells\, and bodyweight movements. This energizing workout focuses on sculpting and toning\, helping you build strength and flexibility. Every session is designed to leave you feeling strong\, balanced\, and revitalized\, creating lean\, graceful muscle definition from head to toe.\nLimit 6 participants/class\n$10 per class for members\n$15 per class for non-membersSignup in advance by emailing Kari – mcdowellkari@yahoo.com
URL:https://riversedgefit.com/event/build-and-burn-w-kari/2025-12-17/
END:VEVENT
BEGIN:VEVENT
DTSTART;TZID=America/Chicago:20251215T060000
DTEND;TZID=America/Chicago:20251215T070000
DTSTAMP:20260421T091706
CREATED:20251204T221229Z
LAST-MODIFIED:20251204T221229Z
UID:2194-1765778400-1765782000@riversedgefit.com
SUMMARY:Build and Burn W/ Kari
DESCRIPTION:Build and Burn\nThis functional strength class is designed to focus on training the body for activities performed in daily life\, sports\, or specific tasks. The primary goal of functional strength training is to improve functional movements and enhance overall functional fitness. \nWe will shape and define lean muscles through targeted exercises that blend dumbells\, kettlebells\, and bodyweight movements. This energizing workout focuses on sculpting and toning\, helping you build strength and flexibility. Every session is designed to leave you feeling strong\, balanced\, and revitalized\, creating lean\, graceful muscle definition from head to toe.\nLimit 6 participants/class\n$10 per class for members\n$15 per class for non-membersSignup in advance by emailing Kari – mcdowellkari@yahoo.com
URL:https://riversedgefit.com/event/build-and-burn-w-kari/2025-12-15/
END:VEVENT
BEGIN:VEVENT
DTSTART;TZID=America/Chicago:20251212T060000
DTEND;TZID=America/Chicago:20251212T070000
DTSTAMP:20260421T091706
CREATED:20251204T221229Z
LAST-MODIFIED:20251204T221229Z
UID:2193-1765519200-1765522800@riversedgefit.com
SUMMARY:Build and Burn W/ Kari
DESCRIPTION:Build and Burn\nThis functional strength class is designed to focus on training the body for activities performed in daily life\, sports\, or specific tasks. The primary goal of functional strength training is to improve functional movements and enhance overall functional fitness. \nWe will shape and define lean muscles through targeted exercises that blend dumbells\, kettlebells\, and bodyweight movements. This energizing workout focuses on sculpting and toning\, helping you build strength and flexibility. Every session is designed to leave you feeling strong\, balanced\, and revitalized\, creating lean\, graceful muscle definition from head to toe.\nLimit 6 participants/class\n$10 per class for members\n$15 per class for non-membersSignup in advance by emailing Kari – mcdowellkari@yahoo.com
URL:https://riversedgefit.com/event/build-and-burn-w-kari/2025-12-12/
END:VEVENT
BEGIN:VEVENT
DTSTART;TZID=America/Chicago:20251210T060000
DTEND;TZID=America/Chicago:20251210T070000
DTSTAMP:20260421T091706
CREATED:20251204T221229Z
LAST-MODIFIED:20251204T221229Z
UID:2192-1765346400-1765350000@riversedgefit.com
SUMMARY:Build and Burn W/ Kari
DESCRIPTION:Build and Burn\nThis functional strength class is designed to focus on training the body for activities performed in daily life\, sports\, or specific tasks. The primary goal of functional strength training is to improve functional movements and enhance overall functional fitness. \nWe will shape and define lean muscles through targeted exercises that blend dumbells\, kettlebells\, and bodyweight movements. This energizing workout focuses on sculpting and toning\, helping you build strength and flexibility. Every session is designed to leave you feeling strong\, balanced\, and revitalized\, creating lean\, graceful muscle definition from head to toe.\nLimit 6 participants/class\n$10 per class for members\n$15 per class for non-membersSignup in advance by emailing Kari – mcdowellkari@yahoo.com
URL:https://riversedgefit.com/event/build-and-burn-w-kari/2025-12-10/
END:VEVENT
BEGIN:VEVENT
DTSTART;TZID=America/Chicago:20251208T060000
DTEND;TZID=America/Chicago:20251208T070000
DTSTAMP:20260421T091706
CREATED:20251204T221229Z
LAST-MODIFIED:20251204T221229Z
UID:2191-1765173600-1765177200@riversedgefit.com
SUMMARY:Build and Burn W/ Kari
DESCRIPTION:Build and Burn\nThis functional strength class is designed to focus on training the body for activities performed in daily life\, sports\, or specific tasks. The primary goal of functional strength training is to improve functional movements and enhance overall functional fitness. \nWe will shape and define lean muscles through targeted exercises that blend dumbells\, kettlebells\, and bodyweight movements. This energizing workout focuses on sculpting and toning\, helping you build strength and flexibility. Every session is designed to leave you feeling strong\, balanced\, and revitalized\, creating lean\, graceful muscle definition from head to toe.\nLimit 6 participants/class\n$10 per class for members\n$15 per class for non-membersSignup in advance by emailing Kari – mcdowellkari@yahoo.com
URL:https://riversedgefit.com/event/build-and-burn-w-kari/2025-12-08/
END:VEVENT
BEGIN:VEVENT
DTSTART;TZID=America/Chicago:20251205T060000
DTEND;TZID=America/Chicago:20251205T070000
DTSTAMP:20260421T091706
CREATED:20251204T221229Z
LAST-MODIFIED:20251204T221229Z
UID:2190-1764914400-1764918000@riversedgefit.com
SUMMARY:Build and Burn W/ Kari
DESCRIPTION:Build and Burn\nThis functional strength class is designed to focus on training the body for activities performed in daily life\, sports\, or specific tasks. The primary goal of functional strength training is to improve functional movements and enhance overall functional fitness. \nWe will shape and define lean muscles through targeted exercises that blend dumbells\, kettlebells\, and bodyweight movements. This energizing workout focuses on sculpting and toning\, helping you build strength and flexibility. Every session is designed to leave you feeling strong\, balanced\, and revitalized\, creating lean\, graceful muscle definition from head to toe.\nLimit 6 participants/class\n$10 per class for members\n$15 per class for non-membersSignup in advance by emailing Kari – mcdowellkari@yahoo.com
URL:https://riversedgefit.com/event/build-and-burn-w-kari/2025-12-05/
END:VEVENT
END:VCALENDAR