BEGIN:VCALENDAR
VERSION:2.0
PRODID:-//River&#039;s Edge - ECPv6.10.1.1//NONSGML v1.0//EN
CALSCALE:GREGORIAN
METHOD:PUBLISH
X-WR-CALNAME:River&#039;s Edge
X-ORIGINAL-URL:https://riversedgefit.com
X-WR-CALDESC:Events for River&#039;s Edge
REFRESH-INTERVAL;VALUE=DURATION:PT1H
X-Robots-Tag:noindex
X-PUBLISHED-TTL:PT1H
BEGIN:VTIMEZONE
TZID:America/Chicago
BEGIN:DAYLIGHT
TZOFFSETFROM:-0600
TZOFFSETTO:-0500
TZNAME:CDT
DTSTART:20250309T080000
END:DAYLIGHT
BEGIN:STANDARD
TZOFFSETFROM:-0500
TZOFFSETTO:-0600
TZNAME:CST
DTSTART:20251102T070000
END:STANDARD
END:VTIMEZONE
BEGIN:VEVENT
DTSTART;TZID=America/Chicago:20251025T073000
DTEND;TZID=America/Chicago:20251025T083000
DTSTAMP:20260421T151706
CREATED:20251002T191036Z
LAST-MODIFIED:20251002T191036Z
UID:2176-1761377400-1761381000@riversedgefit.com
SUMMARY:Core Fushion with Shawnacy
DESCRIPTION:A fusion workout combines two or more different types of exercise into one workout. Core Fusion workouts can often incorporate elements of yoga\, Pilates\, barre and strength training\, while also focusing on the core. Classes will aim to improve strength\, flexibility\, and mobility. Limit 6 participants/class\n$10 per class for members\n$15 per class for non-members\nSignup in advance by emailing Shawnacy – shawnacy@icloud.com
URL:https://riversedgefit.com/event/core-fushion-with-shawnacy/2025-10-25/
END:VEVENT
BEGIN:VEVENT
DTSTART;TZID=America/Chicago:20251018T080000
DTEND;TZID=America/Chicago:20251018T090000
DTSTAMP:20260421T151706
CREATED:20251002T191036Z
LAST-MODIFIED:20251002T191036Z
UID:2175-1760774400-1760778000@riversedgefit.com
SUMMARY:Core Fushion with Shawnacy
DESCRIPTION:A fusion workout combines two or more different types of exercise into one workout. Core Fusion workouts can often incorporate elements of yoga\, Pilates\, barre and strength training\, while also focusing on the core. Classes will aim to improve strength\, flexibility\, and mobility. Limit 6 participants/class\n$10 per class for members\n$15 per class for non-members\nSignup in advance by emailing Shawnacy – shawnacy@icloud.com
URL:https://riversedgefit.com/event/core-fushion-with-shawnacy/2025-10-18/
END:VEVENT
BEGIN:VEVENT
DTSTART;TZID=America/Chicago:20251011T080000
DTEND;TZID=America/Chicago:20251011T090000
DTSTAMP:20260421T151706
CREATED:20251002T191036Z
LAST-MODIFIED:20251002T191036Z
UID:2174-1760169600-1760173200@riversedgefit.com
SUMMARY:Core Fushion with Shawnacy
DESCRIPTION:A fusion workout combines two or more different types of exercise into one workout. Core Fusion workouts can often incorporate elements of yoga\, Pilates\, barre and strength training\, while also focusing on the core. Classes will aim to improve strength\, flexibility\, and mobility. Limit 6 participants/class\n$10 per class for members\n$15 per class for non-members\nSignup in advance by emailing Shawnacy – shawnacy@icloud.com
URL:https://riversedgefit.com/event/core-fushion-with-shawnacy/2025-10-11/
END:VEVENT
END:VCALENDAR