BEGIN:VCALENDAR
VERSION:2.0
PRODID:-//River&#039;s Edge - ECPv6.10.1.1//NONSGML v1.0//EN
CALSCALE:GREGORIAN
METHOD:PUBLISH
X-ORIGINAL-URL:https://riversedgefit.com
X-WR-CALDESC:Events for River&#039;s Edge
REFRESH-INTERVAL;VALUE=DURATION:PT1H
X-Robots-Tag:noindex
X-PUBLISHED-TTL:PT1H
BEGIN:VTIMEZONE
TZID:America/Chicago
BEGIN:DAYLIGHT
TZOFFSETFROM:-0600
TZOFFSETTO:-0500
TZNAME:CDT
DTSTART:20250309T080000
END:DAYLIGHT
BEGIN:STANDARD
TZOFFSETFROM:-0500
TZOFFSETTO:-0600
TZNAME:CST
DTSTART:20251102T070000
END:STANDARD
END:VTIMEZONE
BEGIN:VEVENT
DTSTART;TZID=America/Chicago:20251227T080000
DTEND;TZID=America/Chicago:20251227T090000
DTSTAMP:20260421T170333
CREATED:20251204T220355Z
LAST-MODIFIED:20251204T220355Z
UID:2184-1766822400-1766826000@riversedgefit.com
SUMMARY:Core Fusion W/ Shawnacy
DESCRIPTION:Core Fusion – A fusion workout combines two or more different types of exercise into one workout. Core Fusion workouts can often incorporate elements of yoga\, Pilates\, barre and strength training\, while also focusing on the core. Classes will aim to improve strength\, flexibility\, and mobility. Limit 6 participants/class\n$10 per class for members\n$15 per class for non-members\nSignup in advance by emailing Shawnacy – shawnacy@icloud.com
URL:https://riversedgefit.com/event/core-fusion-w-shawnacy/2025-12-27/
END:VEVENT
BEGIN:VEVENT
DTSTART;TZID=America/Chicago:20251213T080000
DTEND;TZID=America/Chicago:20251213T090000
DTSTAMP:20260421T170333
CREATED:20251204T220355Z
LAST-MODIFIED:20251204T220355Z
UID:2183-1765612800-1765616400@riversedgefit.com
SUMMARY:Core Fusion W/ Shawnacy
DESCRIPTION:Core Fusion – A fusion workout combines two or more different types of exercise into one workout. Core Fusion workouts can often incorporate elements of yoga\, Pilates\, barre and strength training\, while also focusing on the core. Classes will aim to improve strength\, flexibility\, and mobility. Limit 6 participants/class\n$10 per class for members\n$15 per class for non-members\nSignup in advance by emailing Shawnacy – shawnacy@icloud.com
URL:https://riversedgefit.com/event/core-fusion-w-shawnacy/2025-12-13/
END:VEVENT
END:VCALENDAR