BEGIN:VCALENDAR
VERSION:2.0
PRODID:-//River&#039;s Edge - ECPv6.10.1.1//NONSGML v1.0//EN
CALSCALE:GREGORIAN
METHOD:PUBLISH
X-WR-CALNAME:River&#039;s Edge
X-ORIGINAL-URL:https://riversedgefit.com
X-WR-CALDESC:Events for River&#039;s Edge
REFRESH-INTERVAL;VALUE=DURATION:PT1H
X-Robots-Tag:noindex
X-PUBLISHED-TTL:PT1H
BEGIN:VTIMEZONE
TZID:America/Chicago
BEGIN:DAYLIGHT
TZOFFSETFROM:-0600
TZOFFSETTO:-0500
TZNAME:CDT
DTSTART:20220313T080000
END:DAYLIGHT
BEGIN:STANDARD
TZOFFSETFROM:-0500
TZOFFSETTO:-0600
TZNAME:CST
DTSTART:20221106T070000
END:STANDARD
END:VTIMEZONE
BEGIN:VEVENT
DTSTART;TZID=America/Chicago:20220305T080000
DTEND;TZID=America/Chicago:20220305T090000
DTSTAMP:20260422T053038
CREATED:20220228T154102Z
LAST-MODIFIED:20220228T154102Z
UID:1155-1646467200-1646470800@riversedgefit.com
SUMMARY:Sculpt
DESCRIPTION:Sculpt – Similar to Body Pump\, this workout strengthens all major muscle groups. This incorporates movements from traditional weight training\, functional training and core stability. \nLimit 10 participants/class\n$10 per class for members\n$15 per class for non-members\nSignup in advance by emailing Shawnacy – shawnacy@icloud.com
URL:https://riversedgefit.com/event/sculpt-4/
END:VEVENT
BEGIN:VEVENT
DTSTART;TZID=America/Chicago:20220310T170000
DTEND;TZID=America/Chicago:20220310T180000
DTSTAMP:20260422T053038
CREATED:20220228T155327Z
LAST-MODIFIED:20220228T155327Z
UID:1157-1646931600-1646935200@riversedgefit.com
SUMMARY:FIT
DESCRIPTION:FIT – Fitness Interval Training – Friendship will blossom in this safe and effective class for all ages and fitness levels. Formats may vary from week to week \nLimit 10 participants/class\n$10 per class for Members\n$15 per class for Non-members\nSignup in advance by emailing Shawnacy – shawnacy@icloud.com
URL:https://riversedgefit.com/event/fit-3/
END:VEVENT
BEGIN:VEVENT
DTSTART;TZID=America/Chicago:20220312T080000
DTEND;TZID=America/Chicago:20220312T090000
DTSTAMP:20260422T053038
CREATED:20220228T155743Z
LAST-MODIFIED:20220228T155743Z
UID:1159-1647072000-1647075600@riversedgefit.com
SUMMARY:Sculpt
DESCRIPTION:Sculpt – Similar to Body Pump\, this workout strengthens all major muscle groups. This incorporates movements from traditional weight training\, functional training and core stability.\n\nLimit 10 participants/class\n$10 per class for members\n$15 per class for non-members\nSignup in advance by emailing Shawnacy – shawnacy@icloud.com
URL:https://riversedgefit.com/event/sculpt-5/
END:VEVENT
BEGIN:VEVENT
DTSTART;TZID=America/Chicago:20220313T130000
DTEND;TZID=America/Chicago:20220313T140000
DTSTAMP:20260422T053038
CREATED:20220228T160955Z
LAST-MODIFIED:20220228T160955Z
UID:1163-1647176400-1647180000@riversedgefit.com
SUMMARY:Yoga
DESCRIPTION:Gentle Yoga – Focusing on longer held stretches for more flexibility and better balance for the mind and body in this slower paced practice. \nLimit 10 participants/class\n$10 per class for members\n$15 per class for non-members\nSignup in advance by emailing Shawnacy – shawnacy@icloud.com \n 
URL:https://riversedgefit.com/event/yoga-6/
END:VEVENT
BEGIN:VEVENT
DTSTART;TZID=America/Chicago:20220314T170000
DTEND;TZID=America/Chicago:20220314T180000
DTSTAMP:20260422T053038
CREATED:20220228T161229Z
LAST-MODIFIED:20220228T161229Z
UID:1165-1647277200-1647280800@riversedgefit.com
SUMMARY:Pilates
DESCRIPTION:Pilates – Pilates is a form of exercise which concentrates on strengthening the body with an emphasis on core strength. This helps to improve general fitness and overall well-being. Similar to Yoga\, Pilates concentrates on posture\, balance and flexibility\n\nLimit 10 participants/class\n$10 per class for members\n$15 per class for non-members\nSignup in advance by emailing Shawnacy – shawnacy@icloud.com
URL:https://riversedgefit.com/event/pilates-2/
END:VEVENT
BEGIN:VEVENT
DTSTART;TZID=America/Chicago:20220319T080000
DTEND;TZID=America/Chicago:20220319T090000
DTSTAMP:20260422T053038
CREATED:20220228T161425Z
LAST-MODIFIED:20220228T161425Z
UID:1169-1647676800-1647680400@riversedgefit.com
SUMMARY:Pilates
DESCRIPTION:Pilates – Pilates is a form of exercise which concentrates on strengthening the body with an emphasis on core strength. This helps to improve general fitness and overall well-being. Similar to Yoga\, Pilates concentrates on posture\, balance and flexibility \nLimit 10 participants/class\n$10 per class for members\n$15 per class for non-members\nSignup in advance by emailing Shawnacy – shawnacy@icloud.com
URL:https://riversedgefit.com/event/pilates-3/
END:VEVENT
BEGIN:VEVENT
DTSTART;TZID=America/Chicago:20220320T130000
DTEND;TZID=America/Chicago:20220320T140000
DTSTAMP:20260422T053038
CREATED:20220228T161553Z
LAST-MODIFIED:20220228T161553Z
UID:1171-1647781200-1647784800@riversedgefit.com
SUMMARY:Yoga
DESCRIPTION:Gentle Yoga – Focusing on longer held stretches for more flexibility and better balance for the mind and body in this slower paced practice \nLimit 10 participants/class\n$10 per class for members\n$15 per class for non-members\nSignup in advance by emailing Shawnacy – shawnacy@icloud.com
URL:https://riversedgefit.com/event/yoga-7/
END:VEVENT
BEGIN:VEVENT
DTSTART;TZID=America/Chicago:20220327T130000
DTEND;TZID=America/Chicago:20220327T140000
DTSTAMP:20260422T053038
CREATED:20220228T161715Z
LAST-MODIFIED:20220228T161715Z
UID:1173-1648386000-1648389600@riversedgefit.com
SUMMARY:Yoga
DESCRIPTION:Gentle Yoga – Focusing on longer held stretches for more flexibility and better balance for the mind and body in this slower paced practice \nLimit 10 participants/class\n$10 per class for members\n$15 per class for non-members\nSignup in advance by emailing Shawnacy – shawnacy@icloud.com
URL:https://riversedgefit.com/event/yoga-8/
END:VEVENT
BEGIN:VEVENT
DTSTART;TZID=America/Chicago:20220330T170000
DTEND;TZID=America/Chicago:20220330T180000
DTSTAMP:20260422T053038
CREATED:20220228T161958Z
LAST-MODIFIED:20220228T161958Z
UID:1175-1648659600-1648663200@riversedgefit.com
SUMMARY:Sculpt
DESCRIPTION:Sculpt – Similar to Body Pump\, this workout strengthens all major muscle groups. This incorporates movements from traditional weight training\, functional training and core stability. \nLimit 10 participants/class\n$10 per class for members\n$15 per class for non-members\nSignup in advance by emailing Shawnacy – shawnacy@icloud.com\n 
URL:https://riversedgefit.com/event/sculpt-6/
END:VEVENT
END:VCALENDAR