BEGIN:VCALENDAR
VERSION:2.0
PRODID:-//River&#039;s Edge - ECPv6.10.1.1//NONSGML v1.0//EN
CALSCALE:GREGORIAN
METHOD:PUBLISH
X-WR-CALNAME:River&#039;s Edge
X-ORIGINAL-URL:https://riversedgefit.com
X-WR-CALDESC:Events for River&#039;s Edge
REFRESH-INTERVAL;VALUE=DURATION:PT1H
X-Robots-Tag:noindex
X-PUBLISHED-TTL:PT1H
BEGIN:VTIMEZONE
TZID:America/Chicago
BEGIN:DAYLIGHT
TZOFFSETFROM:-0600
TZOFFSETTO:-0500
TZNAME:CDT
DTSTART:20220313T080000
END:DAYLIGHT
BEGIN:STANDARD
TZOFFSETFROM:-0500
TZOFFSETTO:-0600
TZNAME:CST
DTSTART:20221106T070000
END:STANDARD
END:VTIMEZONE
BEGIN:VEVENT
DTSTART;TZID=America/Chicago:20220402T080000
DTEND;TZID=America/Chicago:20220402T090000
DTSTAMP:20260422T040516
CREATED:20220330T173248Z
LAST-MODIFIED:20220330T173248Z
UID:1179-1648886400-1648890000@riversedgefit.com
SUMMARY:Pilates
DESCRIPTION:Pilates – Pilates is a form of exercise which concentrates on strengthening the body with an emphasis on core strength. This helps to improve general fitness and overall well-being. Similar to Yoga\, Pilates concentrates on posture\, balance and flexibility.\n\nLimit 10 participants/class\n$10 per class for members\n$15 per class for non-members\nSignup in advance by emailing Shawnacy – shawnacy@icloud.com
URL:https://riversedgefit.com/event/pilates-4/
END:VEVENT
BEGIN:VEVENT
DTSTART;TZID=America/Chicago:20220403T130000
DTEND;TZID=America/Chicago:20220403T140000
DTSTAMP:20260422T040516
CREATED:20220330T173529Z
LAST-MODIFIED:20220330T173529Z
UID:1181-1648990800-1648994400@riversedgefit.com
SUMMARY:Gentle Yoga
DESCRIPTION:Gentle Yoga – Focusing on longer held stretches for more flexibility and better balance for the mind and body in this slower paced practice. \nLimit 10 participants/class\n$10 per class for members\n$15 per class for non-members\nSignup in advance by emailing Shawnacy – shawnacy@icloud.com
URL:https://riversedgefit.com/event/gentle-yoga-6/
END:VEVENT
BEGIN:VEVENT
DTSTART;TZID=America/Chicago:20220407T163000
DTEND;TZID=America/Chicago:20220407T173000
DTSTAMP:20260422T040516
CREATED:20220330T180003Z
LAST-MODIFIED:20220330T180003Z
UID:1183-1649349000-1649352600@riversedgefit.com
SUMMARY:Sculpt
DESCRIPTION:Sculpt – Similar to Body Pump\, this workout strengthens all major muscle groups. This incorporates movements from traditional weight training\, functional training and core stability. \nLimit 10 participants/class\n$10 per class for members\n$15 per class for non-members\nSignup in advance by emailing Shawnacy – shawnacy@icloud.com\n 
URL:https://riversedgefit.com/event/sculpt-7/
END:VEVENT
BEGIN:VEVENT
DTSTART;TZID=America/Chicago:20220409T080000
DTEND;TZID=America/Chicago:20220409T090000
DTSTAMP:20260422T040516
CREATED:20220330T180200Z
LAST-MODIFIED:20220330T180200Z
UID:1185-1649491200-1649494800@riversedgefit.com
SUMMARY:Pilates
DESCRIPTION:Pilates – Pilates is a form of exercise which concentrates on strengthening the body with an emphasis on core strength. This helps to improve general fitness and overall well-being. Similar to Yoga\, Pilates concentrates on posture\, balance and flexibility \nLimit 10 participants/class\n$10 per class for members\n$15 per class for non-members\nSignup in advance by emailing Shawnacy – shawnacy@icloud.com
URL:https://riversedgefit.com/event/pilates-5/
END:VEVENT
BEGIN:VEVENT
DTSTART;TZID=America/Chicago:20220410T130000
DTEND;TZID=America/Chicago:20220410T140000
DTSTAMP:20260422T040516
CREATED:20220330T180330Z
LAST-MODIFIED:20220330T180330Z
UID:1187-1649595600-1649599200@riversedgefit.com
SUMMARY:Yoga
DESCRIPTION:Gentle Yoga – Focusing on longer held stretches for more flexibility and better balance for the mind and body in this slower paced practice. \nLimit 10 participants/class\n$10 per class for members\n$15 per class for non-members\nSignup in advance by emailing Shawnacy – shawnacy@icloud.com
URL:https://riversedgefit.com/event/yoga-9/
END:VEVENT
BEGIN:VEVENT
DTSTART;TZID=America/Chicago:20220414T163000
DTEND;TZID=America/Chicago:20220414T173000
DTSTAMP:20260422T040516
CREATED:20220330T180455Z
LAST-MODIFIED:20220330T180455Z
UID:1189-1649953800-1649957400@riversedgefit.com
SUMMARY:Sculpt
DESCRIPTION:Sculpt – Similar to Body Pump\, this workout strengthens all major muscle groups. This incorporates movements from traditional weight training\, functional training and core stability. \nLimit 10 participants/class\n$10 per class for members\n$15 per class for non-members\nSignup in advance by emailing Shawnacy – shawnacy@icloud.com
URL:https://riversedgefit.com/event/sculpt-8/
END:VEVENT
BEGIN:VEVENT
DTSTART;TZID=America/Chicago:20220421T163000
DTEND;TZID=America/Chicago:20220421T173000
DTSTAMP:20260422T040516
CREATED:20220330T180739Z
LAST-MODIFIED:20220330T180739Z
UID:1191-1650558600-1650562200@riversedgefit.com
SUMMARY:Sculpt
DESCRIPTION:Sculpt – Similar to Body Pump\, this workout strengthens all major muscle groups. This incorporates movements from traditional weight training\, functional training and core stability.\n\nLimit 10 participants/class\n$10 per class for members\n$15 per class for non-members\nSignup in advance by emailing Shawnacy – shawnacy@icloud.com
URL:https://riversedgefit.com/event/sculpt-9/
END:VEVENT
END:VCALENDAR