BEGIN:VCALENDAR
VERSION:2.0
PRODID:-//River&#039;s Edge - ECPv6.10.1.1//NONSGML v1.0//EN
CALSCALE:GREGORIAN
METHOD:PUBLISH
X-WR-CALNAME:River&#039;s Edge
X-ORIGINAL-URL:https://riversedgefit.com
X-WR-CALDESC:Events for River&#039;s Edge
REFRESH-INTERVAL;VALUE=DURATION:PT1H
X-Robots-Tag:noindex
X-PUBLISHED-TTL:PT1H
BEGIN:VTIMEZONE
TZID:America/Chicago
BEGIN:DAYLIGHT
TZOFFSETFROM:-0600
TZOFFSETTO:-0500
TZNAME:CDT
DTSTART:20220313T080000
END:DAYLIGHT
BEGIN:STANDARD
TZOFFSETFROM:-0500
TZOFFSETTO:-0600
TZNAME:CST
DTSTART:20221106T070000
END:STANDARD
END:VTIMEZONE
BEGIN:VEVENT
DTSTART;TZID=America/Chicago:20220605T110000
DTEND;TZID=America/Chicago:20220605T120000
DTSTAMP:20260420T012514
CREATED:20220603T161903Z
LAST-MODIFIED:20220603T161903Z
UID:1272-1654426800-1654430400@riversedgefit.com
SUMMARY:Gentle Yoga
DESCRIPTION:Gentle Yoga – Focusing on longer held stretches for more flexibility and better balance for the mind and body in this slower paced practice. \nNeeded for every class:\nLimit 10 participants/class\n$10 per class for members\n$15 per class for non-members\nSignup in advance by emailing Shawnacy – shawnacy@icloud.com
URL:https://riversedgefit.com/event/gentle-yoga-7/
END:VEVENT
BEGIN:VEVENT
DTSTART;TZID=America/Chicago:20220607T163000
DTEND;TZID=America/Chicago:20220607T173000
DTSTAMP:20260420T012514
CREATED:20220603T162552Z
LAST-MODIFIED:20220603T162552Z
UID:1275-1654619400-1654623000@riversedgefit.com
SUMMARY:Sculpt
DESCRIPTION:Sculpt – Similar to Body Pump\, this workout strengthens all major muscle groups. This incorporates movements from traditional weight training\, functional training and core stability. \nNeeded for every class:\nLimit 10 participants/class\n$10 per class for members\n$15 per class for non-members\nSignup in advance by emailing Shawnacy – shawnacy@icloud.com\n 
URL:https://riversedgefit.com/event/sculpt-13/
END:VEVENT
BEGIN:VEVENT
DTSTART;TZID=America/Chicago:20220611T080000
DTEND;TZID=America/Chicago:20220611T090000
DTSTAMP:20260420T012514
CREATED:20220603T162736Z
LAST-MODIFIED:20220603T162736Z
UID:1277-1654934400-1654938000@riversedgefit.com
SUMMARY:Pilates
DESCRIPTION:Pilates – Pilates is a form of exercise which concentrates on strengthening the body with an emphasis on core strength. This helps to improve general fitness and overall well-being. Similar to Yoga\, Pilates concentrates on posture\, balance and flexibility. \nLimit 10 participants/class\n$10 per class for members\n$15 per class for non-members\nSignup in advance by emailing Shawnacy – shawnacy@icloud.com
URL:https://riversedgefit.com/event/pilates-8/
END:VEVENT
BEGIN:VEVENT
DTSTART;TZID=America/Chicago:20220612T110000
DTEND;TZID=America/Chicago:20220612T120000
DTSTAMP:20260420T012514
CREATED:20220603T162947Z
LAST-MODIFIED:20220603T162947Z
UID:1279-1655031600-1655035200@riversedgefit.com
SUMMARY:Yoga
DESCRIPTION:Gentle Yoga – Focusing on longer held stretches for more flexibility and better balance for the mind and body in this slower paced practice. \nLimit 10 participants/class\n$10 per class for members\n$15 per class for non-members\nSignup in advance by emailing Shawnacy – shawnacy@icloud.com
URL:https://riversedgefit.com/event/yoga-12/
END:VEVENT
BEGIN:VEVENT
DTSTART;TZID=America/Chicago:20220614T163000
DTEND;TZID=America/Chicago:20220614T173000
DTSTAMP:20260420T012514
CREATED:20220603T163257Z
LAST-MODIFIED:20220603T163257Z
UID:1282-1655224200-1655227800@riversedgefit.com
SUMMARY:Sculpt
DESCRIPTION:Sculpt – Similar to Body Pump\, this workout strengthens all major muscle groups. This incorporates movements from traditional weight training\, functional training and core stability. \nLimit 10 participants/class\n$10 per class for members\n$15 per class for non-members\nSignup in advance by emailing Shawnacy – shawnacy@icloud.com
URL:https://riversedgefit.com/event/sculpt-14/
END:VEVENT
BEGIN:VEVENT
DTSTART;TZID=America/Chicago:20220621T163000
DTEND;TZID=America/Chicago:20220621T173000
DTSTAMP:20260420T012514
CREATED:20220603T163442Z
LAST-MODIFIED:20220603T163442Z
UID:1284-1655829000-1655832600@riversedgefit.com
SUMMARY:Sculpt
DESCRIPTION:Sculpt – Similar to Body Pump\, this workout strengthens all major muscle groups. This incorporates movements from traditional weight training\, functional training and core stability. \nLimit 10 participants/class\n$10 per class for members\n$15 per class for non-members\nSignup in advance by emailing Shawnacy – shawnacy@icloud.com
URL:https://riversedgefit.com/event/sculpt-15/
END:VEVENT
BEGIN:VEVENT
DTSTART;TZID=America/Chicago:20220628T163000
DTEND;TZID=America/Chicago:20220628T173000
DTSTAMP:20260420T012514
CREATED:20220603T163800Z
LAST-MODIFIED:20220603T172533Z
UID:1286-1656433800-1656437400@riversedgefit.com
SUMMARY:Sculpt
DESCRIPTION:Sculpt – Similar to Body Pump\, this workout strengthens all major muscle groups. This incorporates movements from traditional weight training\, functional training and core stability.\n\n\nLimit 10 participants/class\n$10 per class for members\n$15 per class for non-members\nSignup in advance by emailing Shawnacy – shawnacy@icloud.com
URL:https://riversedgefit.com/event/1286/
END:VEVENT
END:VCALENDAR