BEGIN:VCALENDAR
VERSION:2.0
PRODID:-//River&#039;s Edge - ECPv6.10.1.1//NONSGML v1.0//EN
CALSCALE:GREGORIAN
METHOD:PUBLISH
X-ORIGINAL-URL:https://riversedgefit.com
X-WR-CALDESC:Events for River&#039;s Edge
REFRESH-INTERVAL;VALUE=DURATION:PT1H
X-Robots-Tag:noindex
X-PUBLISHED-TTL:PT1H
BEGIN:VTIMEZONE
TZID:America/Chicago
BEGIN:DAYLIGHT
TZOFFSETFROM:-0600
TZOFFSETTO:-0500
TZNAME:CDT
DTSTART:20220313T080000
END:DAYLIGHT
BEGIN:STANDARD
TZOFFSETFROM:-0500
TZOFFSETTO:-0600
TZNAME:CST
DTSTART:20221106T070000
END:STANDARD
END:VTIMEZONE
BEGIN:VEVENT
DTSTART;TZID=America/Chicago:20220705T163000
DTEND;TZID=America/Chicago:20220705T173000
DTSTAMP:20260419T234306
CREATED:20220701T144916Z
LAST-MODIFIED:20220701T144916Z
UID:1291-1657038600-1657042200@riversedgefit.com
SUMMARY:Sculpt
DESCRIPTION:Sculpt – Similar to Body Pump\, this workout strengthens all major muscle groups. This incorporates movements from traditional weight training\, functional training and core stability.\nLimit 10 participants/class\n$10 per class for members\n$15 per class for non-members\nSignup in advance by emailing Shawnacy – shawnacy@icloud.com
URL:https://riversedgefit.com/event/sculpt-16/
END:VEVENT
BEGIN:VEVENT
DTSTART;TZID=America/Chicago:20220709T080000
DTEND;TZID=America/Chicago:20220709T090000
DTSTAMP:20260419T234306
CREATED:20220705T143104Z
LAST-MODIFIED:20220705T143104Z
UID:1296-1657353600-1657357200@riversedgefit.com
SUMMARY:Pilates
DESCRIPTION:Pilates – Pilates is a form of exercise which concentrates on strengthening the body with an emphasis on core strength. This helps to improve general fitness and overall well-being. Similar to Yoga\, Pilates concentrates on posture\, balance and flexibility. \nLimit 10 participants/class\n$10 per class for members\n$15 per class for non-members\nSignup in advance by emailing Shawnacy – shawnacy@icloud.com
URL:https://riversedgefit.com/event/pilates-9/
END:VEVENT
BEGIN:VEVENT
DTSTART;TZID=America/Chicago:20220710T110000
DTEND;TZID=America/Chicago:20220710T120000
DTSTAMP:20260419T234306
CREATED:20220705T143340Z
LAST-MODIFIED:20220705T143340Z
UID:1298-1657450800-1657454400@riversedgefit.com
SUMMARY:Yoga
DESCRIPTION:Gentle Yoga – Focusing on longer held stretches for more flexibility and better balance for the mind and body in this slower paced practice. \nLimit 10 participants/class\n$10 per class for members\n$15 per class for non-members\nSignup in advance by emailing Shawnacy – shawnacy@icloud.com
URL:https://riversedgefit.com/event/yoga-13/
END:VEVENT
BEGIN:VEVENT
DTSTART;TZID=America/Chicago:20220712T163000
DTEND;TZID=America/Chicago:20220712T173000
DTSTAMP:20260419T234306
CREATED:20220705T142744Z
LAST-MODIFIED:20220705T142744Z
UID:1293-1657643400-1657647000@riversedgefit.com
SUMMARY:Sculpt
DESCRIPTION:Sculpt – Similar to Body Pump\, this workout strengthens all major muscle groups. This incorporates movements from traditional weight training\, functional training and core stability.\nLimit 10 participants/class\n$10 per class for members\n$15 per class for non-members\nSignup in advance by emailing Shawnacy – shawnacy@icloud.com
URL:https://riversedgefit.com/event/sculpt-17/
END:VEVENT
BEGIN:VEVENT
DTSTART;TZID=America/Chicago:20220719T163000
DTEND;TZID=America/Chicago:20220719T173000
DTSTAMP:20260419T234306
CREATED:20220705T143550Z
LAST-MODIFIED:20220705T143550Z
UID:1300-1658248200-1658251800@riversedgefit.com
SUMMARY:Sculpt
DESCRIPTION:Sculpt – Similar to Body Pump\, this workout strengthens all major muscle groups. This incorporates movements from traditional weight training\, functional training and core stability.\nLimit 10 participants/class\n$10 per class for members\n$15 per class for non-members\nSignup in advance by emailing Shawnacy – shawnacy@icloud.com
URL:https://riversedgefit.com/event/sculpt-18/
END:VEVENT
BEGIN:VEVENT
DTSTART;TZID=America/Chicago:20220724T110000
DTEND;TZID=America/Chicago:20220724T120000
DTSTAMP:20260419T234306
CREATED:20220705T143904Z
LAST-MODIFIED:20220705T143904Z
UID:1302-1658660400-1658664000@riversedgefit.com
SUMMARY:Yoga
DESCRIPTION:Gentle Yoga – Focusing on longer held stretches for more flexibility and better balance for the mind and body in this slower paced practice. \nLimit 10 participants/class\n$10 per class for members\n$15 per class for non-members\nSignup in advance by emailing Shawnacy – shawnacy@icloud.com
URL:https://riversedgefit.com/event/yoga-14/
END:VEVENT
BEGIN:VEVENT
DTSTART;TZID=America/Chicago:20220731T110000
DTEND;TZID=America/Chicago:20220731T120000
DTSTAMP:20260419T234306
CREATED:20220705T144055Z
LAST-MODIFIED:20220705T144055Z
UID:1304-1659265200-1659268800@riversedgefit.com
SUMMARY:Yoga
DESCRIPTION:Gentle Yoga – Focusing on longer held stretches for more flexibility and better balance for the mind and body in this slower paced practice. \nLimit 10 participants/class\n$10 per class for members\n$15 per class for non-members\nSignup in advance by emailing Shawnacy – shawnacy@icloud.com
URL:https://riversedgefit.com/event/yoga-15/
END:VEVENT
END:VCALENDAR