BEGIN:VCALENDAR
VERSION:2.0
PRODID:-//River&#039;s Edge - ECPv6.10.1.1//NONSGML v1.0//EN
CALSCALE:GREGORIAN
METHOD:PUBLISH
X-ORIGINAL-URL:https://riversedgefit.com
X-WR-CALDESC:Events for River&#039;s Edge
REFRESH-INTERVAL;VALUE=DURATION:PT1H
X-Robots-Tag:noindex
X-PUBLISHED-TTL:PT1H
BEGIN:VTIMEZONE
TZID:America/Chicago
BEGIN:DAYLIGHT
TZOFFSETFROM:-0600
TZOFFSETTO:-0500
TZNAME:CDT
DTSTART:20230312T080000
END:DAYLIGHT
BEGIN:STANDARD
TZOFFSETFROM:-0500
TZOFFSETTO:-0600
TZNAME:CST
DTSTART:20231105T070000
END:STANDARD
END:VTIMEZONE
BEGIN:VEVENT
DTSTART;TZID=America/Chicago:20230301T163000
DTEND;TZID=America/Chicago:20230301T173000
DTSTAMP:20260419T111306
CREATED:20230131T182303Z
LAST-MODIFIED:20230131T182303Z
UID:1371-1677688200-1677691800@riversedgefit.com
SUMMARY:Sculpt
DESCRIPTION:Sculpt – Similar to Body Pump\, this workout strengthens all major muscle groups. This incorporates movements from traditional weight training\, functional training and core stability.\n\nLimit 6 participants/class\n$10 per class for members\n$15 per class for non-members\nSignup in advance by emailing Shawnacy – shawnacy@icloud.com
URL:https://riversedgefit.com/event/sculpt-35/
END:VEVENT
BEGIN:VEVENT
DTSTART;TZID=America/Chicago:20230304T080000
DTEND;TZID=America/Chicago:20230304T090000
DTSTAMP:20260419T111306
CREATED:20230228T142217Z
LAST-MODIFIED:20230228T142217Z
UID:1421-1677916800-1677920400@riversedgefit.com
SUMMARY:Pilates
DESCRIPTION:Pilates – Pilates is a form of exercise which concentrates on strengthening the body with an emphasis on core strength. This helps to improve general fitness and overall well-being. Similar to Yoga\, Pilates concentrates on posture\, balance and flexibility. \nLimit 6 participants/class\n$10 per class for members\n$15 per class for non-members\nSignup in advance by emailing Shawnacy – shawnacy@icloud.com
URL:https://riversedgefit.com/event/pilates-16/
END:VEVENT
BEGIN:VEVENT
DTSTART;TZID=America/Chicago:20230308T163000
DTEND;TZID=America/Chicago:20230308T173000
DTSTAMP:20260419T111306
CREATED:20230228T143210Z
LAST-MODIFIED:20230228T143210Z
UID:1427-1678293000-1678296600@riversedgefit.com
SUMMARY:Sculpt
DESCRIPTION:Sculpt – Similar to Body Pump\, this workout strengthens all major muscle groups. This incorporates movements from traditional weight training\, functional training and core stability. \nLimit 6 participants/class\n$10 per class for members\n$15 per class for non-members\nSignup in advance by emailing Shawnacy – shawnacy@icloud.com
URL:https://riversedgefit.com/event/sculpt-36/
END:VEVENT
BEGIN:VEVENT
DTSTART;TZID=America/Chicago:20230311T080000
DTEND;TZID=America/Chicago:20230311T090000
DTSTAMP:20260419T111306
CREATED:20230228T142537Z
LAST-MODIFIED:20230228T142537Z
UID:1423-1678521600-1678525200@riversedgefit.com
SUMMARY:Pilates
DESCRIPTION:Pilates – Pilates is a form of exercise which concentrates on strengthening the body with an emphasis on core strength. This helps to improve general fitness and overall well-being. Similar to Yoga\, Pilates concentrates on posture\, balance and flexibility \nLimit 6 participants/class\n$10 per class for members\n$15 per class for non-members\nSignup in advance by emailing Shawnacy – shawnacy@icloud.com
URL:https://riversedgefit.com/event/pilates-17/
END:VEVENT
BEGIN:VEVENT
DTSTART;TZID=America/Chicago:20230315T163000
DTEND;TZID=America/Chicago:20230315T173000
DTSTAMP:20260419T111306
CREATED:20230228T143300Z
LAST-MODIFIED:20230228T143300Z
UID:1429-1678897800-1678901400@riversedgefit.com
SUMMARY:Sculpt
DESCRIPTION:Sculpt – Similar to Body Pump\, this workout strengthens all major muscle groups. This incorporates movements from traditional weight training\, functional training and core stability. \nLimit 6 participants/class\n$10 per class for members\n$15 per class for non-members\nSignup in advance by emailing Shawnacy – shawnacy@icloud.com
URL:https://riversedgefit.com/event/sculpt-37/
END:VEVENT
BEGIN:VEVENT
DTSTART;TZID=America/Chicago:20230322T163000
DTEND;TZID=America/Chicago:20230322T173000
DTSTAMP:20260419T111306
CREATED:20230228T143357Z
LAST-MODIFIED:20230228T143357Z
UID:1431-1679502600-1679506200@riversedgefit.com
SUMMARY:Sculpt
DESCRIPTION:Sculpt – Similar to Body Pump\, this workout strengthens all major muscle groups. This incorporates movements from traditional weight training\, functional training and core stability. \nLimit 6 participants/class\n$10 per class for members\n$15 per class for non-members\nSignup in advance by emailing Shawnacy – shawnacy@icloud.com
URL:https://riversedgefit.com/event/sculpt-38/
END:VEVENT
BEGIN:VEVENT
DTSTART;TZID=America/Chicago:20230325T080000
DTEND;TZID=America/Chicago:20230325T090000
DTSTAMP:20260419T111306
CREATED:20230228T142622Z
LAST-MODIFIED:20230228T142622Z
UID:1425-1679731200-1679734800@riversedgefit.com
SUMMARY:Pilates
DESCRIPTION:Pilates – Pilates is a form of exercise which concentrates on strengthening the body with an emphasis on core strength. This helps to improve general fitness and overall well-being. Similar to Yoga\, Pilates concentrates on posture\, balance and flexibility \nLimit 6 participants/class\n$10 per class for members\n$15 per class for non-members\nSignup in advance by emailing Shawnacy – shawnacy@icloud.com
URL:https://riversedgefit.com/event/pilates-18/
END:VEVENT
BEGIN:VEVENT
DTSTART;TZID=America/Chicago:20230329T163000
DTEND;TZID=America/Chicago:20230329T173000
DTSTAMP:20260419T111306
CREATED:20230228T143441Z
LAST-MODIFIED:20230228T143441Z
UID:1433-1680107400-1680111000@riversedgefit.com
SUMMARY:Sculpt
DESCRIPTION:Sculpt – Similar to Body Pump\, this workout strengthens all major muscle groups. This incorporates movements from traditional weight training\, functional training and core stability. \nLimit 6 participants/class\n$10 per class for members\n$15 per class for non-members\nSignup in advance by emailing Shawnacy – shawnacy@icloud.com
URL:https://riversedgefit.com/event/sculpt-39/
END:VEVENT
END:VCALENDAR