BEGIN:VCALENDAR
VERSION:2.0
PRODID:-//River&#039;s Edge - ECPv6.10.1.1//NONSGML v1.0//EN
CALSCALE:GREGORIAN
METHOD:PUBLISH
X-ORIGINAL-URL:https://riversedgefit.com
X-WR-CALDESC:Events for River&#039;s Edge
REFRESH-INTERVAL;VALUE=DURATION:PT1H
X-Robots-Tag:noindex
X-PUBLISHED-TTL:PT1H
BEGIN:VTIMEZONE
TZID:America/Chicago
BEGIN:DAYLIGHT
TZOFFSETFROM:-0600
TZOFFSETTO:-0500
TZNAME:CDT
DTSTART:20230312T080000
END:DAYLIGHT
BEGIN:STANDARD
TZOFFSETFROM:-0500
TZOFFSETTO:-0600
TZNAME:CST
DTSTART:20231105T070000
END:STANDARD
END:VTIMEZONE
BEGIN:VEVENT
DTSTART;TZID=America/Chicago:20230401T080000
DTEND;TZID=America/Chicago:20230401T090000
DTSTAMP:20260419T124625
CREATED:20230328T143501Z
LAST-MODIFIED:20230328T143501Z
UID:1441-1680336000-1680339600@riversedgefit.com
SUMMARY:Pilates
DESCRIPTION:Pilates – Pilates is a form of exercise which concentrates on strengthening the body with an emphasis on core strength. This helps to improve general fitness and overall well-being. Similar to Yoga\, Pilates concentrates on posture\, balance and flexibility. \nLimit 6 participants/class\n$10 per class for members\n$15 per class for non-members\nSignup in advance by emailing Shawnacy – shawnacy@icloud.com
URL:https://riversedgefit.com/event/pilates-19/
END:VEVENT
BEGIN:VEVENT
DTSTART;TZID=America/Chicago:20230406T183000
DTEND;TZID=America/Chicago:20230406T193000
DTSTAMP:20260419T124625
CREATED:20230328T143848Z
LAST-MODIFIED:20230328T143848Z
UID:1449-1680805800-1680809400@riversedgefit.com
SUMMARY:Sculpt
DESCRIPTION:Sculpt – Similar to Body Pump\, this workout strengthens all major muscle groups. This incorporates movements from traditional weight training\, functional training and core stability. \nLimit 6 participants/class\n$10 per class for members\n$15 per class for non-members\nSignup in advance by emailing Shawnacy – shawnacy@icloud.com
URL:https://riversedgefit.com/event/sculpt-40/
END:VEVENT
BEGIN:VEVENT
DTSTART;TZID=America/Chicago:20230408T080000
DTEND;TZID=America/Chicago:20230408T090000
DTSTAMP:20260419T124625
CREATED:20230328T143543Z
LAST-MODIFIED:20230328T143543Z
UID:1443-1680940800-1680944400@riversedgefit.com
SUMMARY:Pilates
DESCRIPTION:Pilates – Pilates is a form of exercise which concentrates on strengthening the body with an emphasis on core strength. This helps to improve general fitness and overall well-being. Similar to Yoga\, Pilates concentrates on posture\, balance and flexibility. \nLimit 6 participants/class\n$10 per class for members\n$15 per class for non-members\nSignup in advance by emailing Shawnacy – shawnacy@icloud.com
URL:https://riversedgefit.com/event/pilates-20/
END:VEVENT
BEGIN:VEVENT
DTSTART;TZID=America/Chicago:20230413T183000
DTEND;TZID=America/Chicago:20230413T193000
DTSTAMP:20260419T124625
CREATED:20230328T144001Z
LAST-MODIFIED:20230328T144001Z
UID:1451-1681410600-1681414200@riversedgefit.com
SUMMARY:Sculpt
DESCRIPTION:Sculpt – Similar to Body Pump\, this workout strengthens all major muscle groups. This incorporates movements from traditional weight training\, functional training and core stability. \nLimit 6 participants/class\n$10 per class for members\n$15 per class for non-members\nSignup in advance by emailing Shawnacy – shawnacy@icloud.com
URL:https://riversedgefit.com/event/sculpt-41/
END:VEVENT
BEGIN:VEVENT
DTSTART;TZID=America/Chicago:20230415T080000
DTEND;TZID=America/Chicago:20230415T090000
DTSTAMP:20260419T124625
CREATED:20230328T143646Z
LAST-MODIFIED:20230328T143646Z
UID:1445-1681545600-1681549200@riversedgefit.com
SUMMARY:Pilates
DESCRIPTION:Pilates – Pilates is a form of exercise which concentrates on strengthening the body with an emphasis on core strength. This helps to improve general fitness and overall well-being. Similar to Yoga\, Pilates concentrates on posture\, balance and flexibility. \nLimit 6 participants/class\n$10 per class for members\n$15 per class for non-members\nSignup in advance by emailing Shawnacy – shawnacy@icloud.com
URL:https://riversedgefit.com/event/pilates-21/
END:VEVENT
BEGIN:VEVENT
DTSTART;TZID=America/Chicago:20230422T070000
DTEND;TZID=America/Chicago:20230422T080000
DTSTAMP:20260419T124625
CREATED:20230328T143728Z
LAST-MODIFIED:20230328T143728Z
UID:1447-1682146800-1682150400@riversedgefit.com
SUMMARY:Pilates
DESCRIPTION:Pilates – Pilates is a form of exercise which concentrates on strengthening the body with an emphasis on core strength. This helps to improve general fitness and overall well-being. Similar to Yoga\, Pilates concentrates on posture\, balance and flexibility. \nLimit 6 participants/class\n$10 per class for members\n$15 per class for non-members\nSignup in advance by emailing Shawnacy – shawnacy@icloud.com
URL:https://riversedgefit.com/event/pilates-22/
END:VEVENT
BEGIN:VEVENT
DTSTART;TZID=America/Chicago:20230427T183000
DTEND;TZID=America/Chicago:20230427T193000
DTSTAMP:20260419T124625
CREATED:20230328T144045Z
LAST-MODIFIED:20230328T144045Z
UID:1453-1682620200-1682623800@riversedgefit.com
SUMMARY:Sculpt
DESCRIPTION:Sculpt – Similar to Body Pump\, this workout strengthens all major muscle groups. This incorporates movements from traditional weight training\, functional training and core stability. \nLimit 6 participants/class\n$10 per class for members\n$15 per class for non-members\nSignup in advance by emailing Shawnacy – shawnacy@icloud.com
URL:https://riversedgefit.com/event/sculpt-42/
END:VEVENT
END:VCALENDAR