BEGIN:VCALENDAR
VERSION:2.0
PRODID:-//River&#039;s Edge - ECPv6.10.1.1//NONSGML v1.0//EN
CALSCALE:GREGORIAN
METHOD:PUBLISH
X-WR-CALNAME:River&#039;s Edge
X-ORIGINAL-URL:https://riversedgefit.com
X-WR-CALDESC:Events for River&#039;s Edge
REFRESH-INTERVAL;VALUE=DURATION:PT1H
X-Robots-Tag:noindex
X-PUBLISHED-TTL:PT1H
BEGIN:VTIMEZONE
TZID:America/Chicago
BEGIN:DAYLIGHT
TZOFFSETFROM:-0600
TZOFFSETTO:-0500
TZNAME:CDT
DTSTART:20230312T080000
END:DAYLIGHT
BEGIN:STANDARD
TZOFFSETFROM:-0500
TZOFFSETTO:-0600
TZNAME:CST
DTSTART:20231105T070000
END:STANDARD
END:VTIMEZONE
BEGIN:VEVENT
DTSTART;TZID=America/Chicago:20230513T080000
DTEND;TZID=America/Chicago:20230513T090000
DTSTAMP:20260419T140852
CREATED:20230502T142528Z
LAST-MODIFIED:20230502T142528Z
UID:1462-1683964800-1683968400@riversedgefit.com
SUMMARY:Pilates
DESCRIPTION:Pilates – Pilates is a form of exercise which concentrates on strengthening the body with an emphasis on core strength. This helps to improve general fitness and overall well-being. Similar to Yoga\, Pilates concentrates on posture\, balance and flexibility.\n\nLimit 6 participants/class\n$10 per class for members\n$15 per class for non-members\nSignup in advance by emailing Shawnacy – shawnacy@icloud.com
URL:https://riversedgefit.com/event/pilates-23/
END:VEVENT
BEGIN:VEVENT
DTSTART;TZID=America/Chicago:20230518T183000
DTEND;TZID=America/Chicago:20230518T193000
DTSTAMP:20260419T140852
CREATED:20230502T143324Z
LAST-MODIFIED:20230502T143324Z
UID:1468-1684434600-1684438200@riversedgefit.com
SUMMARY:Sculpt
DESCRIPTION:Sculpt – Similar to Body Pump\, this workout strengthens all major muscle groups. This incorporates movements from traditional weight training\, functional training and core stability.\n\nLimit 6 participants/class\n$10 per class for members\n$15 per class for non-members\nSignup in advance by emailing Shawnacy – shawnacy@icloud.com
URL:https://riversedgefit.com/event/sculpt-43/
END:VEVENT
BEGIN:VEVENT
DTSTART;TZID=America/Chicago:20230520T080000
DTEND;TZID=America/Chicago:20230520T090000
DTSTAMP:20260419T140852
CREATED:20230502T142621Z
LAST-MODIFIED:20230502T142621Z
UID:1464-1684569600-1684573200@riversedgefit.com
SUMMARY:Pilates
DESCRIPTION:Pilates – Pilates is a form of exercise which concentrates on strengthening the body with an emphasis on core strength. This helps to improve general fitness and overall well-being. Similar to Yoga\, Pilates concentrates on posture\, balance and flexibility.\n\nLimit 6 participants/class\n$10 per class for members\n$15 per class for non-members\nSignup in advance by emailing Shawnacy – shawnacy@icloud.com
URL:https://riversedgefit.com/event/pilates-24/
END:VEVENT
BEGIN:VEVENT
DTSTART;TZID=America/Chicago:20230525T183000
DTEND;TZID=America/Chicago:20230525T193000
DTSTAMP:20260419T140852
CREATED:20230502T143409Z
LAST-MODIFIED:20230502T143409Z
UID:1470-1685039400-1685043000@riversedgefit.com
SUMMARY:Sculpt
DESCRIPTION:Sculpt – Similar to Body Pump\, this workout strengthens all major muscle groups. This incorporates movements from traditional weight training\, functional training and core stability.\n\nLimit 6 participants/class\n$10 per class for members\n$15 per class for non-members\nSignup in advance by emailing Shawnacy – shawnacy@icloud.com
URL:https://riversedgefit.com/event/sculpt-44/
END:VEVENT
BEGIN:VEVENT
DTSTART;TZID=America/Chicago:20230527T070000
DTEND;TZID=America/Chicago:20230527T080000
DTSTAMP:20260419T140852
CREATED:20230502T143143Z
LAST-MODIFIED:20230502T143143Z
UID:1466-1685170800-1685174400@riversedgefit.com
SUMMARY:Pilates
DESCRIPTION:Pilates – Pilates is a form of exercise which concentrates on strengthening the body with an emphasis on core strength. This helps to improve general fitness and overall well-being. Similar to Yoga\, Pilates concentrates on posture\, balance and flexibility.\n\nLimit 6 participants/class\n$10 per class for members\n$15 per class for non-members\nSignup in advance by emailing Shawnacy – shawnacy@icloud.com
URL:https://riversedgefit.com/event/pilates-25/
END:VEVENT
END:VCALENDAR